BEGIN:VCALENDAR
PRODID:-//github.com/ical-org/ical.net//NONSGML ical.net 4.0//EN
VERSION:2.0
BEGIN:VEVENT
CREATED:20260420T154229Z
DESCRIPTION:This is a reminder to submit a session to DevOps Days Dallas 2
 026.\nSet the alarm/notification to ensure you don't miss it!\nSessions c
 an be submitted at https://sessionize.com/DevOpsDaysDallas2026/
DTEND:20260602T045900Z
DTSTAMP:20260420T154229Z
DTSTART:20260602T045900Z
LAST-MODIFIED:20260420T154229Z
LOCATION:https://sessionize.com/DevOpsDaysDallas2026
SEQUENCE:0
SUMMARY:DevOps Days Dallas 2026: deadline to submit a session
UID:2a5b70c7-cc11-4968-baf1-958ba05b821d
BEGIN:VALARM
ACTION:DISPLAY
DESCRIPTION:Reminder
SUMMARY:DevOps Days Dallas 2026: deadline to submit a session
TRIGGER:-P2D
END:VALARM
END:VEVENT
END:VCALENDAR
