BEGIN:VCALENDAR
PRODID:-//github.com/ical-org/ical.net//NONSGML ical.net 4.0//EN
VERSION:2.0
BEGIN:VEVENT
CREATED:20260422T093535Z
DESCRIPTION:This is a reminder to submit a session to Microsoft Data Platf
 orm Group - Birmingham.\nSet the alarm/notification to ensure you don't m
 iss it!\nSessions can be submitted at https://sessionize.com/Microsoft_Da
 ta_Group_Birmingham/
DTEND:20261026T235900Z
DTSTAMP:20260422T093535Z
DTSTART:20261026T235900Z
LAST-MODIFIED:20260422T093535Z
LOCATION:https://sessionize.com/Microsoft_Data_Group_Birmingham
SEQUENCE:0
SUMMARY:Microsoft Data Platform Group - Birmingham: deadline to submit a s
 ession
UID:0215d9d0-106a-47c9-8970-578aa5e0ca02
BEGIN:VALARM
ACTION:DISPLAY
DESCRIPTION:Reminder
SUMMARY:Microsoft Data Platform Group - Birmingham: deadline to submit a s
 ession
TRIGGER:-P2D
END:VALARM
END:VEVENT
END:VCALENDAR
