BEGIN:VCALENDAR
PRODID:-//github.com/ical-org/ical.net//NONSGML ical.net 4.0//EN
VERSION:2.0
BEGIN:VEVENT
CREATED:20260423T132602Z
DESCRIPTION:This is a reminder to submit a session to 2026 Generalists in 
 Medical Education (TGME) Annual Conference .\nSet the alarm/notification 
 to ensure you don't miss it!\nSessions can be submitted at https://sessio
 nize.com/TGME_2026/
DTEND:20260518T065900Z
DTSTAMP:20260423T132602Z
DTSTART:20260518T065900Z
LAST-MODIFIED:20260423T132602Z
LOCATION:https://sessionize.com/TGME_2026
SEQUENCE:0
SUMMARY:2026 Generalists in Medical Education (TGME) Annual Conference : d
 eadline to submit a session
UID:20e3776a-612a-4b7e-a56f-66ddbcf2d654
BEGIN:VALARM
ACTION:DISPLAY
DESCRIPTION:Reminder
SUMMARY:2026 Generalists in Medical Education (TGME) Annual Conference : d
 eadline to submit a session
TRIGGER:-P2D
END:VALARM
END:VEVENT
END:VCALENDAR
