BEGIN:VCALENDAR
PRODID:-//github.com/ical-org/ical.net//NONSGML ical.net 4.0//EN
VERSION:2.0
BEGIN:VEVENT
CREATED:20260421T005743Z
DESCRIPTION:This is a reminder to submit a session to AgentCon -  Panamá C
 ity.\nSet the alarm/notification to ensure you don't miss it!\nSessions c
 an be submitted at https://sessionize.com/agentcon-panama-city/
DTEND:20260526T045900Z
DTSTAMP:20260421T005743Z
DTSTART:20260526T045900Z
LAST-MODIFIED:20260421T005743Z
LOCATION:https://sessionize.com/agentcon-panama-city
SEQUENCE:0
SUMMARY:AgentCon -  Panamá City: deadline to submit a session
UID:974731f1-d73b-4085-bdbc-6d70e7a70b1d
BEGIN:VALARM
ACTION:DISPLAY
DESCRIPTION:Reminder
SUMMARY:AgentCon -  Panamá City: deadline to submit a session
TRIGGER:-P2D
END:VALARM
END:VEVENT
END:VCALENDAR
