BEGIN:VCALENDAR
PRODID:-//github.com/ical-org/ical.net//NONSGML ical.net 4.0//EN
VERSION:2.0
BEGIN:VEVENT
CREATED:20260421T023145Z
DESCRIPTION:This is a reminder to submit a session to  AgentCon - Saint Lo
 uis.\nSet the alarm/notification to ensure you don't miss it!\nSessions c
 an be submitted at https://sessionize.com/agentcon-saint-louis/
DTEND:20260502T055900Z
DTSTAMP:20260421T023145Z
DTSTART:20260502T055900Z
LAST-MODIFIED:20260421T023145Z
LOCATION:https://sessionize.com/agentcon-saint-louis
SEQUENCE:0
SUMMARY: AgentCon - Saint Louis: deadline to submit a session
UID:9267944a-cb42-4d67-b0c3-1339a774a5a6
BEGIN:VALARM
ACTION:DISPLAY
DESCRIPTION:Reminder
SUMMARY: AgentCon - Saint Louis: deadline to submit a session
TRIGGER:-P2D
END:VALARM
END:VEVENT
END:VCALENDAR
