BEGIN:VCALENDAR
PRODID:-//github.com/ical-org/ical.net//NONSGML ical.net 4.0//EN
VERSION:2.0
BEGIN:VEVENT
CREATED:20260420T200144Z
DESCRIPTION:This is a reminder to submit a session to Agentic AI Unplugged
 : Bengaluru Edition.\nSet the alarm/notification to ensure you don't miss
  it!\nSessions can be submitted at https://sessionize.com/agentic-ai-unpl
 ugged/
DTEND:20260510T182900Z
DTSTAMP:20260420T200144Z
DTSTART:20260510T182900Z
LAST-MODIFIED:20260420T200144Z
LOCATION:https://sessionize.com/agentic-ai-unplugged
SEQUENCE:0
SUMMARY:Agentic AI Unplugged: Bengaluru Edition: deadline to submit a sess
 ion
UID:6d160e32-40b1-4af3-812d-d543892be8f8
BEGIN:VALARM
ACTION:DISPLAY
DESCRIPTION:Reminder
SUMMARY:Agentic AI Unplugged: Bengaluru Edition: deadline to submit a sess
 ion
TRIGGER:-P2D
END:VALARM
END:VEVENT
END:VCALENDAR
