BEGIN:VCALENDAR
PRODID:-//github.com/ical-org/ical.net//NONSGML ical.net 4.0//EN
VERSION:2.0
BEGIN:VEVENT
CREATED:20260424T173506Z
DESCRIPTION:This is a reminder to submit a session to AI Community Confere
 nce - New York.\nSet the alarm/notification to ensure you don't miss it!\
 nSessions can be submitted at https://sessionize.com/aico-nyc/
DTEND:20260510T035900Z
DTSTAMP:20260424T173506Z
DTSTART:20260510T035900Z
LAST-MODIFIED:20260424T173506Z
LOCATION:https://sessionize.com/aico-nyc
SEQUENCE:0
SUMMARY:AI Community Conference - New York: deadline to submit a session
UID:f14134dd-8d61-4eea-a871-480bf9c5a86e
BEGIN:VALARM
ACTION:DISPLAY
DESCRIPTION:Reminder
SUMMARY:AI Community Conference - New York: deadline to submit a session
TRIGGER:-P2D
END:VALARM
END:VEVENT
END:VCALENDAR
