BEGIN:VCALENDAR
PRODID:-//github.com/ical-org/ical.net//NONSGML ical.net 4.0//EN
VERSION:2.0
BEGIN:VEVENT
CREATED:20260423T134559Z
DESCRIPTION:This is a reminder to submit a session to The AI Pivot Confere
 nce.\nSet the alarm/notification to ensure you don't miss it!\nSessions c
 an be submitted at https://sessionize.com/aipivotconference/
DTEND:20260505T065900Z
DTSTAMP:20260423T134559Z
DTSTART:20260505T065900Z
LAST-MODIFIED:20260423T134559Z
LOCATION:https://sessionize.com/aipivotconference
SEQUENCE:0
SUMMARY:The AI Pivot Conference: deadline to submit a session
UID:b65c82cf-a2df-47d7-8975-411032a7279c
BEGIN:VALARM
ACTION:DISPLAY
DESCRIPTION:Reminder
SUMMARY:The AI Pivot Conference: deadline to submit a session
TRIGGER:-P2D
END:VALARM
END:VEVENT
END:VCALENDAR
