BEGIN:VCALENDAR
PRODID:-//github.com/ical-org/ical.net//NONSGML ical.net 4.0//EN
VERSION:2.0
BEGIN:VEVENT
CREATED:20260424T003013Z
DESCRIPTION:This is a reminder to submit a session to AMTSO Cyber Research
  Conference 2026.\nSet the alarm/notification to ensure you don't miss it
 !\nSessions can be submitted at https://sessionize.com/amtso-cyber-resear
 ch-conference-2026/
DTEND:20260430T215900Z
DTSTAMP:20260424T003013Z
DTSTART:20260430T215900Z
LAST-MODIFIED:20260424T003013Z
LOCATION:https://sessionize.com/amtso-cyber-research-conference-2026
SEQUENCE:0
SUMMARY:AMTSO Cyber Research Conference 2026: deadline to submit a session
UID:f8253374-61e8-4ff9-a062-0d6b98cb811f
BEGIN:VALARM
ACTION:DISPLAY
DESCRIPTION:Reminder
SUMMARY:AMTSO Cyber Research Conference 2026: deadline to submit a session
TRIGGER:-P2D
END:VALARM
END:VEVENT
END:VCALENDAR
