BEGIN:VCALENDAR
PRODID:-//github.com/ical-org/ical.net//NONSGML ical.net 4.0//EN
VERSION:2.0
BEGIN:VEVENT
CREATED:20260422T195204Z
DESCRIPTION:This is a reminder to submit a session to AnDOUC TechCasts.\nS
 et the alarm/notification to ensure you don't miss it!\nSessions can be s
 ubmitted at https://sessionize.com/andouc-techcasts/
DTEND:20261226T045900Z
DTSTAMP:20260422T195204Z
DTSTART:20261226T045900Z
LAST-MODIFIED:20260422T195204Z
LOCATION:https://sessionize.com/andouc-techcasts
SEQUENCE:0
SUMMARY:AnDOUC TechCasts: deadline to submit a session
UID:30b225f2-429f-44db-9e60-00a0192d7ef7
BEGIN:VALARM
ACTION:DISPLAY
DESCRIPTION:Reminder
SUMMARY:AnDOUC TechCasts: deadline to submit a session
TRIGGER:-P2D
END:VALARM
END:VEVENT
END:VCALENDAR
