BEGIN:VCALENDAR
PRODID:-//github.com/ical-org/ical.net//NONSGML ical.net 4.0//EN
VERSION:2.0
BEGIN:VEVENT
CREATED:20260420T025233Z
DESCRIPTION:This is a reminder to submit a session to Association for Soft
 ware Testing - CAST 2026.\nSet the alarm/notification to ensure you don't
  miss it!\nSessions can be submitted at https://sessionize.com/associatio
 n-for-software-testing-cast/
DTEND:20260601T035900Z
DTSTAMP:20260420T025233Z
DTSTART:20260601T035900Z
LAST-MODIFIED:20260420T025233Z
LOCATION:https://sessionize.com/association-for-software-testing-cast
SEQUENCE:0
SUMMARY:Association for Software Testing - CAST 2026: deadline to submit a
  session
UID:de152602-0b5a-44de-bc21-5d0116a0b0d2
BEGIN:VALARM
ACTION:DISPLAY
DESCRIPTION:Reminder
SUMMARY:Association for Software Testing - CAST 2026: deadline to submit a
  session
TRIGGER:-P2D
END:VALARM
END:VEVENT
END:VCALENDAR
