BEGIN:VCALENDAR
PRODID:-//github.com/ical-org/ical.net//NONSGML ical.net 4.0//EN
VERSION:2.0
BEGIN:VEVENT
CREATED:20260424T191111Z
DESCRIPTION:This is a reminder to submit a session to Atlanta Hardware Bui
 lders.\nSet the alarm/notification to ensure you don't miss it!\nSessions
  can be submitted at https://sessionize.com/atlanta-hardware-builders/
DTEND:20261112T045900Z
DTSTAMP:20260424T191111Z
DTSTART:20261112T045900Z
LAST-MODIFIED:20260424T191111Z
LOCATION:https://sessionize.com/atlanta-hardware-builders
SEQUENCE:0
SUMMARY:Atlanta Hardware Builders: deadline to submit a session
UID:c6d89db2-f5e6-4bc5-9201-0d7ebf7e099a
BEGIN:VALARM
ACTION:DISPLAY
DESCRIPTION:Reminder
SUMMARY:Atlanta Hardware Builders: deadline to submit a session
TRIGGER:-P2D
END:VALARM
END:VEVENT
END:VCALENDAR
