BEGIN:VCALENDAR
PRODID:-//github.com/ical-org/ical.net//NONSGML ical.net 4.0//EN
VERSION:2.0
BEGIN:VEVENT
CREATED:20260422T094627Z
DESCRIPTION:This is a reminder to submit a session to Austin ACM/IEEE Meet
 up - TechTalks.\nSet the alarm/notification to ensure you don't miss it!\
 nSessions can be submitted at https://sessionize.com/austin-acm-meetup/
DTEND:20270101T055900Z
DTSTAMP:20260422T094627Z
DTSTART:20270101T055900Z
LAST-MODIFIED:20260422T094627Z
LOCATION:https://sessionize.com/austin-acm-meetup
SEQUENCE:0
SUMMARY:Austin ACM/IEEE Meetup - TechTalks: deadline to submit a session
UID:3de902f2-78c0-40a2-8c40-a837adcc0eff
BEGIN:VALARM
ACTION:DISPLAY
DESCRIPTION:Reminder
SUMMARY:Austin ACM/IEEE Meetup - TechTalks: deadline to submit a session
TRIGGER:-P2D
END:VALARM
END:VEVENT
END:VCALENDAR
