BEGIN:VCALENDAR
PRODID:-//github.com/ical-org/ical.net//NONSGML ical.net 4.0//EN
VERSION:2.0
BEGIN:VEVENT
CREATED:20260422T135316Z
DESCRIPTION:This is a reminder to submit a session to AWS Community Day Ad
 ria 2026.\nSet the alarm/notification to ensure you don't miss it!\nSessi
 ons can be submitted at https://sessionize.com/aws-community-day-adria-20
 26/
DTEND:20260615T215900Z
DTSTAMP:20260422T135316Z
DTSTART:20260615T215900Z
LAST-MODIFIED:20260422T135316Z
LOCATION:https://sessionize.com/aws-community-day-adria-2026
SEQUENCE:0
SUMMARY:AWS Community Day Adria 2026: deadline to submit a session
UID:91eb21c5-50bc-453c-b548-f2a94863a142
BEGIN:VALARM
ACTION:DISPLAY
DESCRIPTION:Reminder
SUMMARY:AWS Community Day Adria 2026: deadline to submit a session
TRIGGER:-P2D
END:VALARM
END:VEVENT
END:VCALENDAR
