BEGIN:VCALENDAR
PRODID:-//github.com/ical-org/ical.net//NONSGML ical.net 4.0//EN
VERSION:2.0
BEGIN:VEVENT
CREATED:20260422T104907Z
DESCRIPTION:This is a reminder to submit a session to AWS Community Day Ch
 ile 2026.\nSet the alarm/notification to ensure you don't miss it!\nSessi
 ons can be submitted at https://sessionize.com/aws-community-day-chile-20
 26-speakers/
DTEND:20260501T035900Z
DTSTAMP:20260422T104907Z
DTSTART:20260501T035900Z
LAST-MODIFIED:20260422T104907Z
LOCATION:https://sessionize.com/aws-community-day-chile-2026-speakers
SEQUENCE:0
SUMMARY:AWS Community Day Chile 2026: deadline to submit a session
UID:0b5428a7-7279-46d9-8023-26a74c6395ac
BEGIN:VALARM
ACTION:DISPLAY
DESCRIPTION:Reminder
SUMMARY:AWS Community Day Chile 2026: deadline to submit a session
TRIGGER:-P2D
END:VALARM
END:VEVENT
END:VCALENDAR
