BEGIN:VCALENDAR
PRODID:-//github.com/ical-org/ical.net//NONSGML ical.net 4.0//EN
VERSION:2.0
BEGIN:VEVENT
CREATED:20260422T052017Z
DESCRIPTION:This is a reminder to submit a session to AWS DMV and CLE User
  Group .\nSet the alarm/notification to ensure you don't miss it!\nSessio
 ns can be submitted at https://sessionize.com/aws-dmv-and-cle-user-group/
DTEND:20261221T170000Z
DTSTAMP:20260422T052017Z
DTSTART:20261221T170000Z
LAST-MODIFIED:20260422T052017Z
LOCATION:https://sessionize.com/aws-dmv-and-cle-user-group
SEQUENCE:0
SUMMARY:AWS DMV and CLE User Group : deadline to submit a session
UID:1e23e437-a6a8-4b8b-8013-8a4f3ede49f5
BEGIN:VALARM
ACTION:DISPLAY
DESCRIPTION:Reminder
SUMMARY:AWS DMV and CLE User Group : deadline to submit a session
TRIGGER:-P2D
END:VALARM
END:VEVENT
END:VCALENDAR
