BEGIN:VCALENDAR
PRODID:-//github.com/ical-org/ical.net//NONSGML ical.net 4.0//EN
VERSION:2.0
BEGIN:VEVENT
CREATED:20260419T212149Z
DESCRIPTION:This is a reminder to submit a session to AWS GenAI Day Ecuado
 r.\nSet the alarm/notification to ensure you don't miss it!\nSessions can
  be submitted at https://sessionize.com/aws-genai-day-ecuador/
DTEND:20260423T045900Z
DTSTAMP:20260419T212149Z
DTSTART:20260423T045900Z
LAST-MODIFIED:20260419T212149Z
LOCATION:https://sessionize.com/aws-genai-day-ecuador
SEQUENCE:0
SUMMARY:AWS GenAI Day Ecuador: deadline to submit a session
UID:fb4c8c1d-10cf-493a-9551-571db9a13685
BEGIN:VALARM
ACTION:DISPLAY
DESCRIPTION:Reminder
SUMMARY:AWS GenAI Day Ecuador: deadline to submit a session
TRIGGER:-P2D
END:VALARM
END:VEVENT
END:VCALENDAR
