BEGIN:VCALENDAR
PRODID:-//github.com/ical-org/ical.net//NONSGML ical.net 4.0//EN
VERSION:2.0
BEGIN:VEVENT
CREATED:20260422T000806Z
DESCRIPTION:This is a reminder to submit a session to AWS User Group Stock
 holm.\nSet the alarm/notification to ensure you don't miss it!\nSessions 
 can be submitted at https://sessionize.com/aws-user-group-stockholm/
DTEND:20261105T225900Z
DTSTAMP:20260422T000806Z
DTSTART:20261105T225900Z
LAST-MODIFIED:20260422T000806Z
LOCATION:https://sessionize.com/aws-user-group-stockholm
SEQUENCE:0
SUMMARY:AWS User Group Stockholm: deadline to submit a session
UID:5a3b02c9-6a0a-49ca-bfb1-1a93f100921a
BEGIN:VALARM
ACTION:DISPLAY
DESCRIPTION:Reminder
SUMMARY:AWS User Group Stockholm: deadline to submit a session
TRIGGER:-P2D
END:VALARM
END:VEVENT
END:VCALENDAR
