BEGIN:VCALENDAR
PRODID:-//github.com/ical-org/ical.net//NONSGML ical.net 4.0//EN
VERSION:2.0
BEGIN:VEVENT
CREATED:20260421T052451Z
DESCRIPTION:This is a reminder to submit a session to AWS UserGroup Malmö.
 \nSet the alarm/notification to ensure you don't miss it!\nSessions can b
 e submitted at https://sessionize.com/aws-usergroup-malmo/
DTEND:20261105T225900Z
DTSTAMP:20260421T052451Z
DTSTART:20261105T225900Z
LAST-MODIFIED:20260421T052451Z
LOCATION:https://sessionize.com/aws-usergroup-malmo
SEQUENCE:0
SUMMARY:AWS UserGroup Malmö: deadline to submit a session
UID:0ceb788f-85fa-42e6-9f23-bbdae76c188e
BEGIN:VALARM
ACTION:DISPLAY
DESCRIPTION:Reminder
SUMMARY:AWS UserGroup Malmö: deadline to submit a session
TRIGGER:-P2D
END:VALARM
END:VEVENT
END:VCALENDAR
