BEGIN:VCALENDAR
PRODID:-//github.com/ical-org/ical.net//NONSGML ical.net 4.0//EN
VERSION:2.0
BEGIN:VEVENT
CREATED:20260419T132314Z
DESCRIPTION:This is a reminder to submit a session to Azure CBUS 2026.\nSe
 t the alarm/notification to ensure you don't miss it!\nSessions can be su
 bmitted at https://sessionize.com/azure-cbus-2026/
DTEND:20261108T045900Z
DTSTAMP:20260419T132314Z
DTSTART:20261108T045900Z
LAST-MODIFIED:20260419T132314Z
LOCATION:https://sessionize.com/azure-cbus-2026
SEQUENCE:0
SUMMARY:Azure CBUS 2026: deadline to submit a session
UID:424e9f32-f838-40ca-865a-fba43431eb50
BEGIN:VALARM
ACTION:DISPLAY
DESCRIPTION:Reminder
SUMMARY:Azure CBUS 2026: deadline to submit a session
TRIGGER:-P2D
END:VALARM
END:VEVENT
END:VCALENDAR
