BEGIN:VCALENDAR
PRODID:-//github.com/ical-org/ical.net//NONSGML ical.net 4.0//EN
VERSION:2.0
BEGIN:VEVENT
CREATED:20260420T032012Z
DESCRIPTION:This is a reminder to submit a session to Azure Italia Podcast
  - Partecipa anche tu!.\nSet the alarm/notification to ensure you don't m
 iss it!\nSessions can be submitted at https://sessionize.com/azure-italia
 -podcast-25-26/
DTEND:20260731T215900Z
DTSTAMP:20260420T032012Z
DTSTART:20260731T215900Z
LAST-MODIFIED:20260420T032012Z
LOCATION:https://sessionize.com/azure-italia-podcast-25-26
SEQUENCE:0
SUMMARY:Azure Italia Podcast - Partecipa anche tu!: deadline to submit a s
 ession
UID:857c9ac3-a247-456f-8000-5ccb5f9e0697
BEGIN:VALARM
ACTION:DISPLAY
DESCRIPTION:Reminder
SUMMARY:Azure Italia Podcast - Partecipa anche tu!: deadline to submit a s
 ession
TRIGGER:-P2D
END:VALARM
END:VEVENT
END:VCALENDAR
