BEGIN:VCALENDAR
PRODID:-//github.com/ical-org/ical.net//NONSGML ical.net 4.0//EN
VERSION:2.0
BEGIN:VEVENT
CREATED:20260421T123416Z
DESCRIPTION:This is a reminder to submit a session to Azure User Group Swe
 den.\nSet the alarm/notification to ensure you don't miss it!\nSessions c
 an be submitted at https://sessionize.com/azure-user-group-sweden-cfp/
DTEND:20260731T215900Z
DTSTAMP:20260421T123416Z
DTSTART:20260731T215900Z
LAST-MODIFIED:20260421T123416Z
LOCATION:https://sessionize.com/azure-user-group-sweden-cfp
SEQUENCE:0
SUMMARY:Azure User Group Sweden: deadline to submit a session
UID:97718ebb-06bb-4509-8046-94c6e97a83fa
BEGIN:VALARM
ACTION:DISPLAY
DESCRIPTION:Reminder
SUMMARY:Azure User Group Sweden: deadline to submit a session
TRIGGER:-P2D
END:VALARM
END:VEVENT
END:VCALENDAR
