BEGIN:VCALENDAR
PRODID:-//github.com/ical-org/ical.net//NONSGML ical.net 4.0//EN
VERSION:2.0
BEGIN:VEVENT
CREATED:20260422T150521Z
DESCRIPTION:This is a reminder to submit a session to CBUS HUG 2026.\nSet 
 the alarm/notification to ensure you don't miss it!\nSessions can be subm
 itted at https://sessionize.com/cbus-hug-2026/
DTEND:20261119T045900Z
DTSTAMP:20260422T150521Z
DTSTART:20261119T045900Z
LAST-MODIFIED:20260422T150521Z
LOCATION:https://sessionize.com/cbus-hug-2026
SEQUENCE:0
SUMMARY:CBUS HUG 2026: deadline to submit a session
UID:f2519c2f-0289-4abf-beac-44a98b294f8b
BEGIN:VALARM
ACTION:DISPLAY
DESCRIPTION:Reminder
SUMMARY:CBUS HUG 2026: deadline to submit a session
TRIGGER:-P2D
END:VALARM
END:VEVENT
END:VCALENDAR
