BEGIN:VCALENDAR
PRODID:-//github.com/ical-org/ical.net//NONSGML ical.net 4.0//EN
VERSION:2.0
BEGIN:VEVENT
CREATED:20260420T025232Z
DESCRIPTION:This is a reminder to submit a session to Cloud Day 2026.\nSet
  the alarm/notification to ensure you don't miss it!\nSessions can be sub
 mitted at https://sessionize.com/cloud-day-2026/
DTEND:20260614T215900Z
DTSTAMP:20260420T025232Z
DTSTART:20260614T215900Z
LAST-MODIFIED:20260420T025232Z
LOCATION:https://sessionize.com/cloud-day-2026
SEQUENCE:0
SUMMARY:Cloud Day 2026: deadline to submit a session
UID:34f2a916-c096-49ed-94fb-8c82fe0e2799
BEGIN:VALARM
ACTION:DISPLAY
DESCRIPTION:Reminder
SUMMARY:Cloud Day 2026: deadline to submit a session
TRIGGER:-P2D
END:VALARM
END:VEVENT
END:VCALENDAR
