BEGIN:VCALENDAR
PRODID:-//github.com/ical-org/ical.net//NONSGML ical.net 4.0//EN
VERSION:2.0
BEGIN:VEVENT
CREATED:20260422T141332Z
DESCRIPTION:This is a reminder to submit a session to Cloud Native Days Au
 stria 2026.\nSet the alarm/notification to ensure you don't miss it!\nSes
 sions can be submitted at https://sessionize.com/cloud-native-days-austri
 a-2026/
DTEND:20260430T215900Z
DTSTAMP:20260422T141332Z
DTSTART:20260430T215900Z
LAST-MODIFIED:20260422T141332Z
LOCATION:https://sessionize.com/cloud-native-days-austria-2026
SEQUENCE:0
SUMMARY:Cloud Native Days Austria 2026: deadline to submit a session
UID:30572be0-f28e-4175-9ca8-a7a552cb45d3
BEGIN:VALARM
ACTION:DISPLAY
DESCRIPTION:Reminder
SUMMARY:Cloud Native Days Austria 2026: deadline to submit a session
TRIGGER:-P2D
END:VALARM
END:VEVENT
END:VCALENDAR
