BEGIN:VCALENDAR
PRODID:-//github.com/ical-org/ical.net//NONSGML ical.net 4.0//EN
VERSION:2.0
BEGIN:VEVENT
CREATED:20260419T125641Z
DESCRIPTION:This is a reminder to submit a session to Cloud Native Porto.\
 nSet the alarm/notification to ensure you don't miss it!\nSessions can be
  submitted at https://sessionize.com/cloud-native-porto/
DTEND:20270417T225900Z
DTSTAMP:20260419T125641Z
DTSTART:20270417T225900Z
LAST-MODIFIED:20260419T125641Z
LOCATION:https://sessionize.com/cloud-native-porto
SEQUENCE:0
SUMMARY:Cloud Native Porto: deadline to submit a session
UID:4d3d0933-0f48-4961-8096-47708de1acdc
BEGIN:VALARM
ACTION:DISPLAY
DESCRIPTION:Reminder
SUMMARY:Cloud Native Porto: deadline to submit a session
TRIGGER:-P2D
END:VALARM
END:VEVENT
END:VCALENDAR
