BEGIN:VCALENDAR
PRODID:-//github.com/ical-org/ical.net//NONSGML ical.net 4.0//EN
VERSION:2.0
BEGIN:VEVENT
CREATED:20260420T022916Z
DESCRIPTION:This is a reminder to submit a session to CloudCon SYD 2026.\n
 Set the alarm/notification to ensure you don't miss it!\nSessions can be 
 submitted at https://sessionize.com/cloudcon-syd-2026/
DTEND:20260814T135900Z
DTSTAMP:20260420T022916Z
DTSTART:20260814T135900Z
LAST-MODIFIED:20260420T022916Z
LOCATION:https://sessionize.com/cloudcon-syd-2026
SEQUENCE:0
SUMMARY:CloudCon SYD 2026: deadline to submit a session
UID:f94b2034-c34a-4d3a-8efb-b844164c6361
BEGIN:VALARM
ACTION:DISPLAY
DESCRIPTION:Reminder
SUMMARY:CloudCon SYD 2026: deadline to submit a session
TRIGGER:-P2D
END:VALARM
END:VEVENT
END:VCALENDAR
