BEGIN:VCALENDAR
PRODID:-//github.com/ical-org/ical.net//NONSGML ical.net 4.0//EN
VERSION:2.0
BEGIN:VEVENT
CREATED:20260423T135633Z
DESCRIPTION:This is a reminder to submit a session to Code BEAM Europe 202
 6.\nSet the alarm/notification to ensure you don't miss it!\nSessions can
  be submitted at https://sessionize.com/code-beam-europe-2026/
DTEND:20260531T215900Z
DTSTAMP:20260423T135633Z
DTSTART:20260531T215900Z
LAST-MODIFIED:20260423T135633Z
LOCATION:https://sessionize.com/code-beam-europe-2026
SEQUENCE:0
SUMMARY:Code BEAM Europe 2026: deadline to submit a session
UID:e610f8ee-0a1f-4193-a3ab-1593f8915ce7
BEGIN:VALARM
ACTION:DISPLAY
DESCRIPTION:Reminder
SUMMARY:Code BEAM Europe 2026: deadline to submit a session
TRIGGER:-P2D
END:VALARM
END:VEVENT
END:VCALENDAR
