BEGIN:VCALENDAR
PRODID:-//github.com/ical-org/ical.net//NONSGML ical.net 4.0//EN
VERSION:2.0
BEGIN:VEVENT
CREATED:20260420T025443Z
DESCRIPTION:This is a reminder to submit a session to CyberMarketingCon & 
 CyberCEO Summit 2026.\nSet the alarm/notification to ensure you don't mis
 s it!\nSessions can be submitted at https://sessionize.com/cybermarketing
 con-2026/
DTEND:20260516T045900Z
DTSTAMP:20260420T025443Z
DTSTART:20260516T045900Z
LAST-MODIFIED:20260420T025443Z
LOCATION:https://sessionize.com/cybermarketingcon-2026
SEQUENCE:0
SUMMARY:CyberMarketingCon & CyberCEO Summit 2026: deadline to submit a ses
 sion
UID:39caa937-edfc-4607-9bbf-99c3d3c316ab
BEGIN:VALARM
ACTION:DISPLAY
DESCRIPTION:Reminder
SUMMARY:CyberMarketingCon & CyberCEO Summit 2026: deadline to submit a ses
 sion
TRIGGER:-P2D
END:VALARM
END:VEVENT
END:VCALENDAR
