BEGIN:VCALENDAR
PRODID:-//github.com/ical-org/ical.net//NONSGML ical.net 4.0//EN
VERSION:2.0
BEGIN:VEVENT
CREATED:20260422T150357Z
DESCRIPTION:This is a reminder to submit a session to Auckland D365 Busine
 ss Central User Group.\nSet the alarm/notification to ensure you don't mi
 ss it!\nSessions can be submitted at https://sessionize.com/d365bcusergro
 up/
DTEND:20261231T105900Z
DTSTAMP:20260422T150357Z
DTSTART:20261231T105900Z
LAST-MODIFIED:20260422T150357Z
LOCATION:https://sessionize.com/d365bcusergroup
SEQUENCE:0
SUMMARY:Auckland D365 Business Central User Group: deadline to submit a se
 ssion
UID:3456b58c-d784-4f24-b340-69cd8ad7eb98
BEGIN:VALARM
ACTION:DISPLAY
DESCRIPTION:Reminder
SUMMARY:Auckland D365 Business Central User Group: deadline to submit a se
 ssion
TRIGGER:-P2D
END:VALARM
END:VEVENT
END:VCALENDAR
