BEGIN:VCALENDAR
PRODID:-//github.com/ical-org/ical.net//NONSGML ical.net 4.0//EN
VERSION:2.0
BEGIN:VEVENT
CREATED:20260421T021105Z
DESCRIPTION:This is a reminder to submit a session to Data Start  - Comuni
 dad LATAM capítulo 2.\nSet the alarm/notification to ensure you don't mis
 s it!\nSessions can be submitted at https://sessionize.com/data-start-com
 unidad-latam-cap2/
DTEND:20260530T055900Z
DTSTAMP:20260421T021105Z
DTSTART:20260530T055900Z
LAST-MODIFIED:20260421T021105Z
LOCATION:https://sessionize.com/data-start-comunidad-latam-cap2
SEQUENCE:0
SUMMARY:Data Start  - Comunidad LATAM capítulo 2: deadline to submit a ses
 sion
UID:7db25773-6e81-45d3-bf46-e2e23477bf15
BEGIN:VALARM
ACTION:DISPLAY
DESCRIPTION:Reminder
SUMMARY:Data Start  - Comunidad LATAM capítulo 2: deadline to submit a ses
 sion
TRIGGER:-P2D
END:VALARM
END:VEVENT
END:VCALENDAR
