BEGIN:VCALENDAR
PRODID:-//github.com/ical-org/ical.net//NONSGML ical.net 4.0//EN
VERSION:2.0
BEGIN:VEVENT
CREATED:20260422T094128Z
DESCRIPTION:This is a reminder to submit a session to DevOps Toronto 2026.
 \nSet the alarm/notification to ensure you don't miss it!\nSessions can b
 e submitted at https://sessionize.com/devops-toronto-2026/
DTEND:20270101T045900Z
DTSTAMP:20260422T094128Z
DTSTART:20270101T045900Z
LAST-MODIFIED:20260422T094128Z
LOCATION:https://sessionize.com/devops-toronto-2026
SEQUENCE:0
SUMMARY:DevOps Toronto 2026: deadline to submit a session
UID:92f732c6-8915-4e65-8854-63cf9a7c1fd7
BEGIN:VALARM
ACTION:DISPLAY
DESCRIPTION:Reminder
SUMMARY:DevOps Toronto 2026: deadline to submit a session
TRIGGER:-P2D
END:VALARM
END:VEVENT
END:VCALENDAR
