BEGIN:VCALENDAR
PRODID:-//github.com/ical-org/ical.net//NONSGML ical.net 4.0//EN
VERSION:2.0
BEGIN:VEVENT
CREATED:20260422T135746Z
DESCRIPTION:This is a reminder to submit a session to .NET Developer Confe
 rence '26.\nSet the alarm/notification to ensure you don't miss it!\nSess
 ions can be submitted at https://sessionize.com/dotnet-developer-conferen
 ce-26/
DTEND:20260615T215900Z
DTSTAMP:20260422T135746Z
DTSTART:20260615T215900Z
LAST-MODIFIED:20260422T135746Z
LOCATION:https://sessionize.com/dotnet-developer-conference-26
SEQUENCE:0
SUMMARY:.NET Developer Conference '26: deadline to submit a session
UID:6075e7cd-a990-4ca4-a3da-863860ea98b4
BEGIN:VALARM
ACTION:DISPLAY
DESCRIPTION:Reminder
SUMMARY:.NET Developer Conference '26: deadline to submit a session
TRIGGER:-P2D
END:VALARM
END:VEVENT
END:VCALENDAR
