BEGIN:VCALENDAR
PRODID:-//github.com/ical-org/ical.net//NONSGML ical.net 4.0//EN
VERSION:2.0
BEGIN:VEVENT
CREATED:20260422T231702Z
DESCRIPTION:This is a reminder to submit a session to droidCon USA 2026.\n
 Set the alarm/notification to ensure you don't miss it!\nSessions can be 
 submitted at https://sessionize.com/droidcon-orlando-2026/
DTEND:20260501T035900Z
DTSTAMP:20260422T231702Z
DTSTART:20260501T035900Z
LAST-MODIFIED:20260422T231702Z
LOCATION:https://sessionize.com/droidcon-orlando-2026
SEQUENCE:0
SUMMARY:droidCon USA 2026: deadline to submit a session
UID:c29a979e-2b28-4795-a447-3db9f4cfdbe0
BEGIN:VALARM
ACTION:DISPLAY
DESCRIPTION:Reminder
SUMMARY:droidCon USA 2026: deadline to submit a session
TRIGGER:-P2D
END:VALARM
END:VEVENT
END:VCALENDAR
