BEGIN:VCALENDAR
PRODID:-//github.com/ical-org/ical.net//NONSGML ical.net 4.0//EN
VERSION:2.0
BEGIN:VEVENT
CREATED:20260420T051628Z
DESCRIPTION:This is a reminder to submit a session to Dutch Fabric user gr
 oup 2026.\nSet the alarm/notification to ensure you don't miss it!\nSessi
 ons can be submitted at https://sessionize.com/dutch-fabric-user-group-20
 26/
DTEND:20261231T225900Z
DTSTAMP:20260420T051628Z
DTSTART:20261231T225900Z
LAST-MODIFIED:20260420T051628Z
LOCATION:https://sessionize.com/dutch-fabric-user-group-2026
SEQUENCE:0
SUMMARY:Dutch Fabric user group 2026: deadline to submit a session
UID:7879d897-26f6-406a-98f3-c2dcc2042e48
BEGIN:VALARM
ACTION:DISPLAY
DESCRIPTION:Reminder
SUMMARY:Dutch Fabric user group 2026: deadline to submit a session
TRIGGER:-P2D
END:VALARM
END:VEVENT
END:VCALENDAR
