BEGIN:VCALENDAR
PRODID:-//github.com/ical-org/ical.net//NONSGML ical.net 4.0//EN
VERSION:2.0
BEGIN:VEVENT
CREATED:20260424T184931Z
DESCRIPTION:This is a reminder to submit a session to Dutch Microsoft Secu
 rity Meetup.\nSet the alarm/notification to ensure you don't miss it!\nSe
 ssions can be submitted at https://sessionize.com/dutch-microsoft-securit
 y-meetup/
DTEND:20261231T225900Z
DTSTAMP:20260424T184931Z
DTSTART:20261231T225900Z
LAST-MODIFIED:20260424T184931Z
LOCATION:https://sessionize.com/dutch-microsoft-security-meetup
SEQUENCE:0
SUMMARY:Dutch Microsoft Security Meetup: deadline to submit a session
UID:001409a1-7e02-4087-aecb-0af16906a5a3
BEGIN:VALARM
ACTION:DISPLAY
DESCRIPTION:Reminder
SUMMARY:Dutch Microsoft Security Meetup: deadline to submit a session
TRIGGER:-P2D
END:VALARM
END:VEVENT
END:VCALENDAR
