BEGIN:VCALENDAR
PRODID:-//github.com/ical-org/ical.net//NONSGML ical.net 4.0//EN
VERSION:2.0
BEGIN:VEVENT
CREATED:20260422T114303Z
DESCRIPTION:This is a reminder to submit a session to Elastic Contributor 
 Program.\nSet the alarm/notification to ensure you don't miss it!\nSessio
 ns can be submitted at https://sessionize.com/elastic-contributor-program
 /
DTEND:20260701T115900Z
DTSTAMP:20260422T114303Z
DTSTART:20260701T115900Z
LAST-MODIFIED:20260422T114303Z
LOCATION:https://sessionize.com/elastic-contributor-program
SEQUENCE:0
SUMMARY:Elastic Contributor Program: deadline to submit a session
UID:8a5a5600-5e77-467e-a6ed-33008dc4a1be
BEGIN:VALARM
ACTION:DISPLAY
DESCRIPTION:Reminder
SUMMARY:Elastic Contributor Program: deadline to submit a session
TRIGGER:-P2D
END:VALARM
END:VEVENT
END:VCALENDAR
