BEGIN:VCALENDAR
PRODID:-//github.com/ical-org/ical.net//NONSGML ical.net 4.0//EN
VERSION:2.0
BEGIN:VEVENT
CREATED:20260425T142006Z
DESCRIPTION:This is a reminder to submit a session to EUC TechCon 2026.\nS
 et the alarm/notification to ensure you don't miss it!\nSessions can be s
 ubmitted at https://sessionize.com/euc-techcon-2026/
DTEND:20260515T215900Z
DTSTAMP:20260425T142006Z
DTSTART:20260515T215900Z
LAST-MODIFIED:20260425T142006Z
LOCATION:https://sessionize.com/euc-techcon-2026
SEQUENCE:0
SUMMARY:EUC TechCon 2026: deadline to submit a session
UID:19367792-3666-4fca-a4c4-983bd77745a3
BEGIN:VALARM
ACTION:DISPLAY
DESCRIPTION:Reminder
SUMMARY:EUC TechCon 2026: deadline to submit a session
TRIGGER:-P2D
END:VALARM
END:VEVENT
END:VCALENDAR
