BEGIN:VCALENDAR
PRODID:-//github.com/ical-org/ical.net//NONSGML ical.net 4.0//EN
VERSION:2.0
BEGIN:VEVENT
CREATED:20260425T102105Z
DESCRIPTION:This is a reminder to submit a session to Experts Live Sweden 
 2026.\nSet the alarm/notification to ensure you don't miss it!\nSessions 
 can be submitted at https://sessionize.com/experts-live-sweden-2026/
DTEND:20260430T215900Z
DTSTAMP:20260425T102105Z
DTSTART:20260430T215900Z
LAST-MODIFIED:20260425T102105Z
LOCATION:https://sessionize.com/experts-live-sweden-2026
SEQUENCE:0
SUMMARY:Experts Live Sweden 2026: deadline to submit a session
UID:10721ae3-b464-46d8-91b5-44aaa8e09370
BEGIN:VALARM
ACTION:DISPLAY
DESCRIPTION:Reminder
SUMMARY:Experts Live Sweden 2026: deadline to submit a session
TRIGGER:-P2D
END:VALARM
END:VEVENT
END:VCALENDAR
