BEGIN:VCALENDAR
PRODID:-//github.com/ical-org/ical.net//NONSGML ical.net 4.0//EN
VERSION:2.0
BEGIN:VEVENT
CREATED:20260425T025533Z
DESCRIPTION:This is a reminder to submit a session to Explora Tech Lima 20
 26.\nSet the alarm/notification to ensure you don't miss it!\nSessions ca
 n be submitted at https://sessionize.com/explora-tech-lima-2026/
DTEND:20260427T045900Z
DTSTAMP:20260425T025533Z
DTSTART:20260427T045900Z
LAST-MODIFIED:20260425T025533Z
LOCATION:https://sessionize.com/explora-tech-lima-2026
SEQUENCE:0
SUMMARY:Explora Tech Lima 2026: deadline to submit a session
UID:e04f70ef-d05d-4646-bc0b-2213d495b3cb
BEGIN:VALARM
ACTION:DISPLAY
DESCRIPTION:Reminder
SUMMARY:Explora Tech Lima 2026: deadline to submit a session
TRIGGER:-P2D
END:VALARM
END:VEVENT
END:VCALENDAR
