BEGIN:VCALENDAR
PRODID:-//github.com/ical-org/ical.net//NONSGML ical.net 4.0//EN
VERSION:2.0
BEGIN:VEVENT
CREATED:20260425T214423Z
DESCRIPTION:This is a reminder to submit a session to FabFest 2026.\nSet t
 he alarm/notification to ensure you don't miss it!\nSessions can be submi
 tted at https://sessionize.com/fabfest2026/
DTEND:20260615T110000Z
DTSTAMP:20260425T214423Z
DTSTART:20260615T110000Z
LAST-MODIFIED:20260425T214423Z
LOCATION:https://sessionize.com/fabfest2026
SEQUENCE:0
SUMMARY:FabFest 2026: deadline to submit a session
UID:0cabbbe2-77fd-49e2-bf0b-c0fcf5f0d094
BEGIN:VALARM
ACTION:DISPLAY
DESCRIPTION:Reminder
SUMMARY:FabFest 2026: deadline to submit a session
TRIGGER:-P2D
END:VALARM
END:VEVENT
END:VCALENDAR
