BEGIN:VCALENDAR
PRODID:-//github.com/ical-org/ical.net//NONSGML ical.net 4.0//EN
VERSION:2.0
BEGIN:VEVENT
CREATED:20260421T082652Z
DESCRIPTION:This is a reminder to submit a session to FDC2027.\nSet the al
 arm/notification to ensure you don't miss it!\nSessions can be submitted 
 at https://sessionize.com/fdc2027-call-for-speaker-proposals/
DTEND:20270402T035900Z
DTSTAMP:20260421T082652Z
DTSTART:20270402T035900Z
LAST-MODIFIED:20260421T082652Z
LOCATION:https://sessionize.com/fdc2027-call-for-speaker-proposals
SEQUENCE:0
SUMMARY:FDC2027: deadline to submit a session
UID:b0778f50-04b1-40eb-9b26-5c739df17d7e
BEGIN:VALARM
ACTION:DISPLAY
DESCRIPTION:Reminder
SUMMARY:FDC2027: deadline to submit a session
TRIGGER:-P2D
END:VALARM
END:VEVENT
END:VCALENDAR
