BEGIN:VCALENDAR
PRODID:-//github.com/ical-org/ical.net//NONSGML ical.net 4.0//EN
VERSION:2.0
BEGIN:VEVENT
CREATED:20260425T181523Z
DESCRIPTION:This is a reminder to submit a session to La Hora de Kubernete
 s 2026 - Fundacion ˙hispana de Cloud Native .\nSet the alarm/notification
  to ensure you don't miss it!\nSessions can be submitted at https://sessi
 onize.com/fhcn/
DTEND:20270101T045900Z
DTSTAMP:20260425T181523Z
DTSTART:20270101T045900Z
LAST-MODIFIED:20260425T181523Z
LOCATION:https://sessionize.com/fhcn
SEQUENCE:0
SUMMARY:La Hora de Kubernetes 2026 - Fundacion ˙hispana de Cloud Native : 
 deadline to submit a session
UID:41507787-f139-4027-99c5-916be52f287d
BEGIN:VALARM
ACTION:DISPLAY
DESCRIPTION:Reminder
SUMMARY:La Hora de Kubernetes 2026 - Fundacion ˙hispana de Cloud Native : 
 deadline to submit a session
TRIGGER:-P2D
END:VALARM
END:VEVENT
END:VCALENDAR
