BEGIN:VCALENDAR
PRODID:-//github.com/ical-org/ical.net//NONSGML ical.net 4.0//EN
VERSION:2.0
BEGIN:VEVENT
CREATED:20260424T042823Z
DESCRIPTION:This is a reminder to submit a session to Flutter Montreal Mee
 tup.\nSet the alarm/notification to ensure you don't miss it!\nSessions c
 an be submitted at https://sessionize.com/fluttermtl/
DTEND:20261103T045900Z
DTSTAMP:20260424T042823Z
DTSTART:20261103T045900Z
LAST-MODIFIED:20260424T042823Z
LOCATION:https://sessionize.com/fluttermtl
SEQUENCE:0
SUMMARY:Flutter Montreal Meetup: deadline to submit a session
UID:5136673a-bca9-4ad7-be27-39f60a2f8fc0
BEGIN:VALARM
ACTION:DISPLAY
DESCRIPTION:Reminder
SUMMARY:Flutter Montreal Meetup: deadline to submit a session
TRIGGER:-P2D
END:VALARM
END:VEVENT
END:VCALENDAR
