BEGIN:VCALENDAR
PRODID:-//github.com/ical-org/ical.net//NONSGML ical.net 4.0//EN
VERSION:2.0
BEGIN:VEVENT
CREATED:20260421T112802Z
DESCRIPTION:This is a reminder to submit a session to M365 Community Days 
 Montréal - Sessions trimestrielles.\nSet the alarm/notification to ensure
  you don't miss it!\nSessions can be submitted at https://sessionize.com/
 gum365-communitydays-trimestriels/
DTEND:20270128T045900Z
DTSTAMP:20260421T112802Z
DTSTART:20270128T045900Z
LAST-MODIFIED:20260421T112802Z
LOCATION:https://sessionize.com/gum365-communitydays-trimestriels
SEQUENCE:0
SUMMARY:M365 Community Days Montréal - Sessions trimestrielles: deadline t
 o submit a session
UID:87af974f-c392-4876-9008-5831e9fd41e4
BEGIN:VALARM
ACTION:DISPLAY
DESCRIPTION:Reminder
SUMMARY:M365 Community Days Montréal - Sessions trimestrielles: deadline t
 o submit a session
TRIGGER:-P2D
END:VALARM
END:VEVENT
END:VCALENDAR
