BEGIN:VCALENDAR
PRODID:-//github.com/ical-org/ical.net//NONSGML ical.net 4.0//EN
VERSION:2.0
BEGIN:VEVENT
CREATED:20260420T025314Z
DESCRIPTION:This is a reminder to submit a session to HelloStavanger 2026.
 \nSet the alarm/notification to ensure you don't miss it!\nSessions can b
 e submitted at https://sessionize.com/hellostavanger-2026/
DTEND:20260503T215900Z
DTSTAMP:20260420T025314Z
DTSTART:20260503T215900Z
LAST-MODIFIED:20260420T025314Z
LOCATION:https://sessionize.com/hellostavanger-2026
SEQUENCE:0
SUMMARY:HelloStavanger 2026: deadline to submit a session
UID:2ca06b1c-5f26-4abb-ada6-9bd65ae3af6a
BEGIN:VALARM
ACTION:DISPLAY
DESCRIPTION:Reminder
SUMMARY:HelloStavanger 2026: deadline to submit a session
TRIGGER:-P2D
END:VALARM
END:VEVENT
END:VCALENDAR
