BEGIN:VCALENDAR
PRODID:-//github.com/ical-org/ical.net//NONSGML ical.net 4.0//EN
VERSION:2.0
BEGIN:VEVENT
CREATED:20260422T061057Z
DESCRIPTION:This is a reminder to submit a session to HrOUG 2026.\nSet the
  alarm/notification to ensure you don't miss it!\nSessions can be submitt
 ed at https://sessionize.com/hroug-2026/
DTEND:20260531T215900Z
DTSTAMP:20260422T061057Z
DTSTART:20260531T215900Z
LAST-MODIFIED:20260422T061057Z
LOCATION:https://sessionize.com/hroug-2026
SEQUENCE:0
SUMMARY:HrOUG 2026: deadline to submit a session
UID:92535cb0-33e8-4369-bfb4-0f72c830de75
BEGIN:VALARM
ACTION:DISPLAY
DESCRIPTION:Reminder
SUMMARY:HrOUG 2026: deadline to submit a session
TRIGGER:-P2D
END:VALARM
END:VEVENT
END:VCALENDAR
