BEGIN:VCALENDAR
PRODID:-//github.com/ical-org/ical.net//NONSGML ical.net 4.0//EN
VERSION:2.0
BEGIN:VEVENT
CREATED:20260424T112405Z
DESCRIPTION:This is a reminder to submit a session to IIBA Poland Summit 2
 026.\nSet the alarm/notification to ensure you don't miss it!\nSessions c
 an be submitted at https://sessionize.com/iiba-poland-summit-2026/
DTEND:20260430T215900Z
DTSTAMP:20260424T112405Z
DTSTART:20260430T215900Z
LAST-MODIFIED:20260424T112405Z
LOCATION:https://sessionize.com/iiba-poland-summit-2026
SEQUENCE:0
SUMMARY:IIBA Poland Summit 2026: deadline to submit a session
UID:cdae42e4-4abd-4180-a1a3-c9497dcadb2c
BEGIN:VALARM
ACTION:DISPLAY
DESCRIPTION:Reminder
SUMMARY:IIBA Poland Summit 2026: deadline to submit a session
TRIGGER:-P2D
END:VALARM
END:VEVENT
END:VCALENDAR
