BEGIN:VCALENDAR
PRODID:-//github.com/ical-org/ical.net//NONSGML ical.net 4.0//EN
VERSION:2.0
BEGIN:VEVENT
CREATED:20260422T135958Z
DESCRIPTION:This is a reminder to submit a session to Infobip Shift Zadar 
 2026 .\nSet the alarm/notification to ensure you don't miss it!\nSessions
  can be submitted at https://sessionize.com/infobip-shift-2026/
DTEND:20260522T215900Z
DTSTAMP:20260422T135958Z
DTSTART:20260522T215900Z
LAST-MODIFIED:20260422T135958Z
LOCATION:https://sessionize.com/infobip-shift-2026
SEQUENCE:0
SUMMARY:Infobip Shift Zadar 2026 : deadline to submit a session
UID:1daddc9f-fc30-4da8-a42d-5b5f76c07274
BEGIN:VALARM
ACTION:DISPLAY
DESCRIPTION:Reminder
SUMMARY:Infobip Shift Zadar 2026 : deadline to submit a session
TRIGGER:-P2D
END:VALARM
END:VEVENT
END:VCALENDAR
