BEGIN:VCALENDAR
PRODID:-//github.com/ical-org/ical.net//NONSGML ical.net 4.0//EN
VERSION:2.0
BEGIN:VEVENT
CREATED:20260422T142036Z
DESCRIPTION:This is a reminder to submit a session to Java Forum Nord 2026
 .\nSet the alarm/notification to ensure you don't miss it!\nSessions can 
 be submitted at https://sessionize.com/java-forum-nord-2026/
DTEND:20260505T215900Z
DTSTAMP:20260422T142036Z
DTSTART:20260505T215900Z
LAST-MODIFIED:20260422T142036Z
LOCATION:https://sessionize.com/java-forum-nord-2026
SEQUENCE:0
SUMMARY:Java Forum Nord 2026: deadline to submit a session
UID:427313e6-c726-4db7-9e2a-0b05b4408df5
BEGIN:VALARM
ACTION:DISPLAY
DESCRIPTION:Reminder
SUMMARY:Java Forum Nord 2026: deadline to submit a session
TRIGGER:-P2D
END:VALARM
END:VEVENT
END:VCALENDAR
